BEGIN:VCALENDAR
VERSION:2.0
PRODID:-//Sydney Game Fishing Club - ECPv4.8//NONSGML v1.0//EN
CALSCALE:GREGORIAN
METHOD:PUBLISH
X-WR-CALNAME:Sydney Game Fishing Club
X-ORIGINAL-URL:http://sgfc.com.au
X-WR-CALDESC:Events for Sydney Game Fishing Club
BEGIN:VEVENT
DTSTART;VALUE=DATE:20190309
DTEND;VALUE=DATE:20190311
DTSTAMP:20190228T014249
CREATED:20181202T224306Z
LAST-MODIFIED:20181202T224306Z
UID:6362-1552089600-1552262399@sgfc.com.au
SUMMARY:Newcastle - East Coast Classic
DESCRIPTION:
URL:http://sgfc.com.au/event/newcastle-east-coast-classic/
LOCATION:Newcastle Game Fishing Club\, 9/91 Hannell Street\, Wickham\, New South Wales\, 2293\, Australia
CATEGORIES:Tournament
ORGANIZER;CN="Scott%20Morris":MAILTO:scott@jagfloors.com.au
END:VEVENT
END:VCALENDAR