BEGIN:VCALENDAR
VERSION:2.0
PRODID:-//Sydney Game Fishing Club - ECPv4.8//NONSGML v1.0//EN
CALSCALE:GREGORIAN
METHOD:PUBLISH
X-WR-CALNAME:Sydney Game Fishing Club
X-ORIGINAL-URL:http://sgfc.com.au
X-WR-CALDESC:Events for Sydney Game Fishing Club
BEGIN:VEVENT
DTSTART;TZID=Australia/Sydney:20190205T190000
DTEND;TZID=Australia/Sydney:20190205T213000
DTSTAMP:20190228T013754
CREATED:20190117T082628Z
LAST-MODIFIED:20190117T082847Z
UID:6407-1549393200-1549402200@sgfc.com.au
SUMMARY:Club Meeting - Interclub Calcutta
DESCRIPTION:From 7pm\, come down for the Interclub Calcutta and the special Sponsors Raffle draw! \n  \nSGFC Sponsor Raffle \n\n1st Prize: full day charter out of Port Stephens on “Little Audrey 2”\, skippered by Captain Dan\, for 5 people (valued at $2\,000)\n2nd Prize: Pakula Pack – teaser & lures (valued at more than $300)\n3rd Prize: Pair of Tonic Sunglasses and hat (valued at $250)\n\n  \n  \n$50 per ticket\, or 3 for $125 – tickets available on the night. \n
URL:http://sgfc.com.au/event/club-meeting-interclub-calcutta/
LOCATION:SGFC Clubhouse\, Wharf\, Watsons Bay\, Australia
CATEGORIES:Club Meeting
ORGANIZER;CN="Karen%20Wright":MAILTO:secretary@sgfc.com.au
END:VEVENT
END:VCALENDAR