BEGIN:VCALENDAR
VERSION:2.0
PRODID:-//Sydney Game Fishing Club - ECPv4.8//NONSGML v1.0//EN
CALSCALE:GREGORIAN
METHOD:PUBLISH
X-WR-CALNAME:Sydney Game Fishing Club
X-ORIGINAL-URL:http://sgfc.com.au
X-WR-CALDESC:Events for Sydney Game Fishing Club
BEGIN:VEVENT
DTSTART;VALUE=DATE:20190209
DTEND;VALUE=DATE:20190211
DTSTAMP:20190228T013904
CREATED:20181202T223225Z
LAST-MODIFIED:20181202T223225Z
UID:6353-1549670400-1549843199@sgfc.com.au
SUMMARY:Shellharbour - Game Fishing Tournament
DESCRIPTION:
URL:http://sgfc.com.au/event/shellharbour-game-fishing-tournament/
LOCATION:Shellharbour Game Fishing Club\, Shellharbour\, New South Wales\, 2529\, Australia
CATEGORIES:Tournament
ORGANIZER;CN="Carol%20Goodger":MAILTO:secretary@shellharbourgamefishing.com.au
END:VEVENT
END:VCALENDAR