BEGIN:VCALENDAR
VERSION:2.0
PRODID:-//Sydney Game Fishing Club - ECPv5.3.2.1//NONSGML v1.0//EN
CALSCALE:GREGORIAN
METHOD:PUBLISH
X-WR-CALNAME:Sydney Game Fishing Club
X-ORIGINAL-URL:http://sgfc.com.au
X-WR-CALDESC:Events for Sydney Game Fishing Club
BEGIN:VTIMEZONE
TZID:Australia/Sydney
BEGIN:STANDARD
TZOFFSETFROM:+1100
TZOFFSETTO:+1000
TZNAME:AEST
DTSTART:20200404T160000
END:STANDARD
BEGIN:DAYLIGHT
TZOFFSETFROM:+1000
TZOFFSETTO:+1100
TZNAME:AEDT
DTSTART:20201003T160000
END:DAYLIGHT
END:VTIMEZONE
BEGIN:VEVENT
DTSTART;VALUE=DATE:20200131
DTEND;VALUE=DATE:20200203
DTSTAMP:20210228T223539
CREATED:20190731T073413Z
LAST-MODIFIED:20191014T221323Z
UID:6609-1580428800-1580687999@sgfc.com.au
SUMMARY:Big Fish Bonanza
DESCRIPTION:Lake Macquarie GFC
URL:http://sgfc.com.au/event/big-fish-bonanza/
LOCATION:Lake Macquarie Game Fishing Club\, Marks Point Marina\, 21 Edith St\, Marks Point\, New South Wales\, 2280\, Australia
CATEGORIES:Tournament
ORGANIZER;CN="Toni%20Russell":MAILTO:secretary@lmgfc.com.au
END:VEVENT
END:VCALENDAR