BEGIN:VCALENDAR
VERSION:2.0
PRODID:-//Sydney Game Fishing Club - ECPv5.3.2.1//NONSGML v1.0//EN
CALSCALE:GREGORIAN
METHOD:PUBLISH
X-WR-CALNAME:Sydney Game Fishing Club
X-ORIGINAL-URL:http://sgfc.com.au
X-WR-CALDESC:Events for Sydney Game Fishing Club
BEGIN:VTIMEZONE
TZID:Australia/Sydney
BEGIN:STANDARD
TZOFFSETFROM:+1100
TZOFFSETTO:+1000
TZNAME:AEST
DTSTART:20200404T160000
END:STANDARD
BEGIN:DAYLIGHT
TZOFFSETFROM:+1000
TZOFFSETTO:+1100
TZNAME:AEDT
DTSTART:20201003T160000
END:DAYLIGHT
END:VTIMEZONE
BEGIN:VEVENT
DTSTART;VALUE=DATE:20200321
DTEND;VALUE=DATE:20200323
DTSTAMP:20210228T223139
CREATED:20190731T080836Z
LAST-MODIFIED:20191014T222643Z
UID:6619-1584748800-1584921599@sgfc.com.au
SUMMARY:Broken Bay Invitational Tournament
DESCRIPTION:Hosted by Broken Bay GFC and including Sydney Pointscore and Central Zone
URL:http://sgfc.com.au/event/broken-bay-invitation-tournament/
LOCATION:Broken Bay GFC\, 46 Prince Alfred Parade\, Newport\, NSW\, 2106\, Australia
CATEGORIES:Central Zone,Summer Point Score,Tournament
ORGANIZER;CN="Craig%20Findlay":MAILTO:crfindlay@gmail.com
END:VEVENT
END:VCALENDAR