BEGIN:VCALENDAR
VERSION:2.0
PRODID:-//Sydney Game Fishing Club - ECPv4.8//NONSGML v1.0//EN
CALSCALE:GREGORIAN
METHOD:PUBLISH
X-WR-CALNAME:Sydney Game Fishing Club
X-ORIGINAL-URL:http://sgfc.com.au
X-WR-CALDESC:Events for Sydney Game Fishing Club
BEGIN:VEVENT
DTSTART;VALUE=DATE:20190201
DTEND;VALUE=DATE:20190204
DTSTAMP:20190228T012341
CREATED:20181202T222731Z
LAST-MODIFIED:20181202T222731Z
UID:6345-1548979200-1549238399@sgfc.com.au
SUMMARY:Lake Macquarie - Bigfish Bonanza
DESCRIPTION:
URL:http://sgfc.com.au/event/lake-macquarie-bigfish-bonanza/
LOCATION:Lake Macquarie Game Fishing Club\, Marks Point Marina\, 21 Edith St\, Marks Point\, New South Wales\, 2280\, Australia
CATEGORIES:Tournament
ORGANIZER;CN="Toni%20Russell":MAILTO:secretary@lmgfc.com.au
END:VEVENT
BEGIN:VEVENT
DTSTART;VALUE=DATE:20190201
DTEND;VALUE=DATE:20190204
DTSTAMP:20190228T012341
CREATED:20181202T223009Z
LAST-MODIFIED:20181202T223009Z
UID:6346-1548979200-1549238399@sgfc.com.au
SUMMARY:Ulladulla - Jess Sams Game Fishing Tournament
DESCRIPTION:
URL:http://sgfc.com.au/event/ulladulla-jess-sams-game-fishing-tournament/
LOCATION:Ulladulla GFC\, Ulladulla\, New South Wales\, 2539\, Australia
CATEGORIES:Tournament
ORGANIZER;CN="George%20Lirantzis":MAILTO:ulladullagfc@hotmail.com
END:VEVENT
BEGIN:VEVENT
DTSTART;TZID=Australia/Sydney:20190205T190000
DTEND;TZID=Australia/Sydney:20190205T213000
DTSTAMP:20190228T012341
CREATED:20190117T082628Z
LAST-MODIFIED:20190117T082847Z
UID:6407-1549393200-1549402200@sgfc.com.au
SUMMARY:Club Meeting - Interclub Calcutta
DESCRIPTION:From 7pm\, come down for the Interclub Calcutta and the special Sponsors Raffle draw! \n  \nSGFC Sponsor Raffle \n\n1st Prize: full day charter out of Port Stephens on “Little Audrey 2”\, skippered by Captain Dan\, for 5 people (valued at $2\,000)\n2nd Prize: Pakula Pack – teaser & lures (valued at more than $300)\n3rd Prize: Pair of Tonic Sunglasses and hat (valued at $250)\n\n  \n  \n$50 per ticket\, or 3 for $125 – tickets available on the night. \n
URL:http://sgfc.com.au/event/club-meeting-interclub-calcutta/
LOCATION:SGFC Clubhouse\, Wharf\, Watsons Bay\, Australia
CATEGORIES:Club Meeting
ORGANIZER;CN="Karen%20Wright":MAILTO:secretary@sgfc.com.au
END:VEVENT
BEGIN:VEVENT
DTSTART;VALUE=DATE:20190209
DTEND;VALUE=DATE:20190211
DTSTAMP:20190228T012341
CREATED:20181202T223225Z
LAST-MODIFIED:20181202T223225Z
UID:6353-1549670400-1549843199@sgfc.com.au
SUMMARY:Shellharbour - Game Fishing Tournament
DESCRIPTION:
URL:http://sgfc.com.au/event/shellharbour-game-fishing-tournament/
LOCATION:Shellharbour Game Fishing Club\, Shellharbour\, New South Wales\, 2529\, Australia
CATEGORIES:Tournament
ORGANIZER;CN="Carol%20Goodger":MAILTO:secretary@shellharbourgamefishing.com.au
END:VEVENT
BEGIN:VEVENT
DTSTART;VALUE=DATE:20190215
DTEND;VALUE=DATE:20190218
DTSTAMP:20190228T012341
CREATED:20181202T223607Z
LAST-MODIFIED:20181202T223607Z
UID:6354-1550188800-1550447999@sgfc.com.au
SUMMARY:Newcastle & Port Stephens - Billfish Shootout
DESCRIPTION:
URL:http://sgfc.com.au/event/newcastle-port-stephens-billfish-shootout/
LOCATION:Newcastle & Port Stephens Game Fishing Club\, 57 Shoal Bay Rd\, Shoal Bay\, New South Wales\, 2315\, Australia
CATEGORIES:Tournament
ORGANIZER;CN="Peter%20Simpson":MAILTO:gladius@internode.on.net
END:VEVENT
BEGIN:VEVENT
DTSTART;VALUE=DATE:20190221
DTEND;VALUE=DATE:20190225
DTSTAMP:20190228T012341
CREATED:20181202T224025Z
LAST-MODIFIED:20190104T021631Z
UID:6358-1550707200-1551052799@sgfc.com.au
SUMMARY:NSWGFA - Interclub State Championships
DESCRIPTION:Full details available here: http://www.nswgfa.com.au/interclub.php \n  \n\nLadies Day Thursday 21st February (Boats May fish from their Home Ports for Ladies Day)\nBriefing Night Thursday 21st February\nFishing Day 1 Friday 22nd February\nFishing Day 2 Saturday 23rd February\nFishing Day 3 Sunday 24th February\nPresentation Evening Sunday 24th February at Nelson Bay Wests\n\n  \nFull details available here: http://www.nswgfa.com.au/interclub.php \n
URL:http://sgfc.com.au/event/nswgfa-interclub-state-championships/
LOCATION:Port Stephens – Interclub\, 40A Victoria Parade\, Nelson Bay\, New South Wales\, 2315\, Australia
CATEGORIES:Tournament
ORGANIZER;CN="Nigel%20Rushworth":MAILTO:secretary@nswgfa.com.au
END:VEVENT
END:VCALENDAR