BEGIN:VCALENDAR
VERSION:2.0
PRODID:-//Sydney Game Fishing Club - ECPv5.3.2.1//NONSGML v1.0//EN
CALSCALE:GREGORIAN
METHOD:PUBLISH
X-WR-CALNAME:Sydney Game Fishing Club
X-ORIGINAL-URL:http://sgfc.com.au
X-WR-CALDESC:Events for Sydney Game Fishing Club
BEGIN:VTIMEZONE
TZID:Australia/Sydney
BEGIN:STANDARD
TZOFFSETFROM:+1100
TZOFFSETTO:+1000
TZNAME:AEST
DTSTART:20200404T160000
END:STANDARD
BEGIN:DAYLIGHT
TZOFFSETFROM:+1000
TZOFFSETTO:+1100
TZNAME:AEDT
DTSTART:20201003T160000
END:DAYLIGHT
END:VTIMEZONE
BEGIN:VEVENT
DTSTART;VALUE=DATE:20200502
DTEND;VALUE=DATE:20200504
DTSTAMP:20210228T223041
CREATED:20190731T080615Z
LAST-MODIFIED:20191014T221844Z
UID:6617-1588377600-1588550399@sgfc.com.au
SUMMARY:Port Hacking 100
DESCRIPTION:Hosted by Port Hacking GFC\, Sydney Pointscore and Central Zone
URL:http://sgfc.com.au/event/port-hacking-100-2/
LOCATION:Port Hacking GFC\, 228-232 Woolooware Rd\, Burraneer\, NSW\, 2230\, Australia
CATEGORIES:Central Zone,Tournament
ORGANIZER;CN="David%20Joyce":MAILTO:djoyce@cuscal.com.au
END:VEVENT
END:VCALENDAR