BEGIN:VCALENDAR
VERSION:2.0
PRODID:-//Sydney Game Fishing Club - ECPv5.3.2.1//NONSGML v1.0//EN
CALSCALE:GREGORIAN
METHOD:PUBLISH
X-WR-CALNAME:Sydney Game Fishing Club
X-ORIGINAL-URL:http://sgfc.com.au
X-WR-CALDESC:Events for Sydney Game Fishing Club
BEGIN:VTIMEZONE
TZID:Australia/Sydney
BEGIN:STANDARD
TZOFFSETFROM:+1100
TZOFFSETTO:+1000
TZNAME:AEST
DTSTART:20200404T160000
END:STANDARD
BEGIN:DAYLIGHT
TZOFFSETFROM:+1000
TZOFFSETTO:+1100
TZNAME:AEDT
DTSTART:20201003T160000
END:DAYLIGHT
END:VTIMEZONE
BEGIN:VEVENT
DTSTART;VALUE=DATE:20200404
DTEND;VALUE=DATE:20200406
DTSTAMP:20210228T223307
CREATED:20191014T222843Z
LAST-MODIFIED:20191119T020332Z
UID:6666-1585958400-1586131199@sgfc.com.au
SUMMARY:Kiama Blowhole Bigfish Classic
DESCRIPTION:Host Club Kiama GFC
URL:http://sgfc.com.au/event/kiama-blowhole-bigfish-classic/
LOCATION:Kiama GFC\, Kiama\, New South Wales\, 2533\, Australia
CATEGORIES:Tournament
ORGANIZER;CN="Mark%20Way":MAILTO:myway@bigpond.net.au
END:VEVENT
END:VCALENDAR