BEGIN:VCALENDAR
VERSION:2.0
PRODID:-//Sydney Game Fishing Club - ECPv6.15.20//NONSGML v1.0//EN
CALSCALE:GREGORIAN
METHOD:PUBLISH
X-WR-CALNAME:Sydney Game Fishing Club
X-ORIGINAL-URL:https://sgfc.com.au
X-WR-CALDESC:Events for Sydney Game Fishing Club
REFRESH-INTERVAL;VALUE=DURATION:PT1H
X-Robots-Tag:noindex
X-PUBLISHED-TTL:PT1H
BEGIN:VTIMEZONE
TZID:Australia/Sydney
BEGIN:STANDARD
TZOFFSETFROM:+1100
TZOFFSETTO:+1000
TZNAME:AEST
DTSTART:20210403T160000
END:STANDARD
BEGIN:DAYLIGHT
TZOFFSETFROM:+1000
TZOFFSETTO:+1100
TZNAME:AEDT
DTSTART:20211002T160000
END:DAYLIGHT
BEGIN:STANDARD
TZOFFSETFROM:+1100
TZOFFSETTO:+1000
TZNAME:AEST
DTSTART:20220402T160000
END:STANDARD
BEGIN:DAYLIGHT
TZOFFSETFROM:+1000
TZOFFSETTO:+1100
TZNAME:AEDT
DTSTART:20221001T160000
END:DAYLIGHT
BEGIN:STANDARD
TZOFFSETFROM:+1100
TZOFFSETTO:+1000
TZNAME:AEST
DTSTART:20230401T160000
END:STANDARD
BEGIN:DAYLIGHT
TZOFFSETFROM:+1000
TZOFFSETTO:+1100
TZNAME:AEDT
DTSTART:20230930T160000
END:DAYLIGHT
END:VTIMEZONE
BEGIN:VEVENT
DTSTART;VALUE=DATE:20221203
DTEND;VALUE=DATE:20221205
DTSTAMP:20260423T151253
CREATED:20221006T010015Z
LAST-MODIFIED:20221006T010015Z
UID:7411-1670025600-1670198399@sgfc.com.au
SUMMARY:Pointscore Week-end
DESCRIPTION:
URL:https://sgfc.com.au/event/pointscore-week-end-2/
END:VEVENT
BEGIN:VEVENT
DTSTART;VALUE=DATE:20221203
DTEND;VALUE=DATE:20221205
DTSTAMP:20260423T151253
CREATED:20221006T010139Z
LAST-MODIFIED:20221006T010139Z
UID:7413-1670025600-1670198399@sgfc.com.au
SUMMARY:Pointscore Week-end
DESCRIPTION:
URL:https://sgfc.com.au/event/pointscore-week-end-3/
END:VEVENT
END:VCALENDAR