BEGIN:VCALENDAR
VERSION:2.0
PRODID:-//Sydney Game Fishing Club - ECPv6.15.20//NONSGML v1.0//EN
CALSCALE:GREGORIAN
METHOD:PUBLISH
X-ORIGINAL-URL:https://sgfc.com.au
X-WR-CALDESC:Events for Sydney Game Fishing Club
REFRESH-INTERVAL;VALUE=DURATION:PT1H
X-Robots-Tag:noindex
X-PUBLISHED-TTL:PT1H
BEGIN:VTIMEZONE
TZID:Australia/Sydney
BEGIN:STANDARD
TZOFFSETFROM:+1100
TZOFFSETTO:+1000
TZNAME:AEST
DTSTART:20210403T160000
END:STANDARD
BEGIN:DAYLIGHT
TZOFFSETFROM:+1000
TZOFFSETTO:+1100
TZNAME:AEDT
DTSTART:20211002T160000
END:DAYLIGHT
BEGIN:STANDARD
TZOFFSETFROM:+1100
TZOFFSETTO:+1000
TZNAME:AEST
DTSTART:20220402T160000
END:STANDARD
BEGIN:DAYLIGHT
TZOFFSETFROM:+1000
TZOFFSETTO:+1100
TZNAME:AEDT
DTSTART:20221001T160000
END:DAYLIGHT
BEGIN:STANDARD
TZOFFSETFROM:+1100
TZOFFSETTO:+1000
TZNAME:AEST
DTSTART:20230401T160000
END:STANDARD
BEGIN:DAYLIGHT
TZOFFSETFROM:+1000
TZOFFSETTO:+1100
TZNAME:AEDT
DTSTART:20230930T160000
END:DAYLIGHT
END:VTIMEZONE
BEGIN:VEVENT
DTSTART;TZID=Australia/Sydney:20221212T080000
DTEND;TZID=Australia/Sydney:20221212T170000
DTSTAMP:20260423T151400
CREATED:20221212T041346Z
LAST-MODIFIED:20221212T041346Z
UID:7526-1670832000-1670864400@sgfc.com.au
SUMMARY:Watsons Bay Wharf Upgrade...have your say in our future
DESCRIPTION:Dear Friend \nThere are proposals to upgrade the Watsons bay Ferry wharf\, the Sydney Game Fishing Club’s future existence on the Watsons bay Ferry wharf is under threat.\nIt is most important that everyone fill in the questionnaire to tell the powers that be we must me included in any of their future plans.\nHigh importance be clear to put in your response that you want Sydney game fishing club must remain on the Watsons Bay Wharf\nYou can also email direct to transport and have your say WharfUpgradeProgram@transport.nsw.gov.au\nOption 1 SGFC stays\ninteractive portal \n 
URL:https://sgfc.com.au/event/watsons-bay-wharf-upgrade-have-your-say-in-our-future/
END:VEVENT
END:VCALENDAR