BEGIN:VCALENDAR
VERSION:2.0
PRODID:-//Sydney Game Fishing Club - ECPv6.15.20//NONSGML v1.0//EN
CALSCALE:GREGORIAN
METHOD:PUBLISH
X-WR-CALNAME:Sydney Game Fishing Club
X-ORIGINAL-URL:https://sgfc.com.au
X-WR-CALDESC:Events for Sydney Game Fishing Club
REFRESH-INTERVAL;VALUE=DURATION:PT1H
X-Robots-Tag:noindex
X-PUBLISHED-TTL:PT1H
BEGIN:VTIMEZONE
TZID:Australia/Sydney
BEGIN:STANDARD
TZOFFSETFROM:+1100
TZOFFSETTO:+1000
TZNAME:AEST
DTSTART:20220402T160000
END:STANDARD
BEGIN:DAYLIGHT
TZOFFSETFROM:+1000
TZOFFSETTO:+1100
TZNAME:AEDT
DTSTART:20221001T160000
END:DAYLIGHT
BEGIN:STANDARD
TZOFFSETFROM:+1100
TZOFFSETTO:+1000
TZNAME:AEST
DTSTART:20230401T160000
END:STANDARD
BEGIN:DAYLIGHT
TZOFFSETFROM:+1000
TZOFFSETTO:+1100
TZNAME:AEDT
DTSTART:20230930T160000
END:DAYLIGHT
BEGIN:STANDARD
TZOFFSETFROM:+1100
TZOFFSETTO:+1000
TZNAME:AEST
DTSTART:20240406T160000
END:STANDARD
BEGIN:DAYLIGHT
TZOFFSETFROM:+1000
TZOFFSETTO:+1100
TZNAME:AEDT
DTSTART:20241005T160000
END:DAYLIGHT
END:VTIMEZONE
BEGIN:VEVENT
DTSTART;VALUE=DATE:20230601
DTEND;VALUE=DATE:20230901
DTSTAMP:20260423T043516
CREATED:20230520T031527Z
LAST-MODIFIED:20230520T031527Z
UID:7735-1685577600-1693526399@sgfc.com.au
SUMMARY:SGFC Tuna Slam 2023
DESCRIPTION:Gregs Yellowfin\nThe SGFC Tuna Slam will take place throughout the entire months of June\, July and August. \nBoundaries are bordered by ‘Delta’ to the North and below ‘Zulu’ to the South on the Central Zone grid chart i.e.  North to  latitude 33” 05′  and  South to latitude 34” 55′  – with no limit to the days you may fish. \n \n  \nEntry:   $250 per boat regardless of the number of anglers – boats must be registered before heading to sea to compete. \nRegistering: To register contact the club secretary ( Anita – 0402 615 814) \nPrizes:  The pool starts with $2\,300.00 not won last year…\n40% of the entry pool to the heaviest Blue Fin\n40% to heaviest other tuna and remainder to the Club\n\nBoundaries:\nNorth  to Latitude  – 33.05.000\nSouth  to Latitude – 34.55 000 \nPlease note eligible tuna must conform to NSWGFA rules i.e. they must be at least equal in weight to the line class used. \nThe SGFC website and facebook will be regularly updated with details of leading fish.
URL:https://sgfc.com.au/event/sgfc-tuna-slam-2023/
LOCATION:SGFC Clubhouse\, Wharf\, Watsons Bay\, Australia
CATEGORIES:Tournament
END:VEVENT
END:VCALENDAR