BEGIN:VCALENDAR
VERSION:2.0
PRODID:-//Sydney Game Fishing Club - ECPv6.15.20//NONSGML v1.0//EN
CALSCALE:GREGORIAN
METHOD:PUBLISH
X-WR-CALNAME:Sydney Game Fishing Club
X-ORIGINAL-URL:https://sgfc.com.au
X-WR-CALDESC:Events for Sydney Game Fishing Club
REFRESH-INTERVAL;VALUE=DURATION:PT1H
X-Robots-Tag:noindex
X-PUBLISHED-TTL:PT1H
BEGIN:VTIMEZONE
TZID:Australia/Sydney
BEGIN:STANDARD
TZOFFSETFROM:+1100
TZOFFSETTO:+1000
TZNAME:AEST
DTSTART:20250405T160000
END:STANDARD
BEGIN:DAYLIGHT
TZOFFSETFROM:+1000
TZOFFSETTO:+1100
TZNAME:AEDT
DTSTART:20251004T160000
END:DAYLIGHT
BEGIN:STANDARD
TZOFFSETFROM:+1100
TZOFFSETTO:+1000
TZNAME:AEST
DTSTART:20260404T160000
END:STANDARD
BEGIN:DAYLIGHT
TZOFFSETFROM:+1000
TZOFFSETTO:+1100
TZNAME:AEDT
DTSTART:20261003T160000
END:DAYLIGHT
BEGIN:STANDARD
TZOFFSETFROM:+1100
TZOFFSETTO:+1000
TZNAME:AEST
DTSTART:20270403T160000
END:STANDARD
BEGIN:DAYLIGHT
TZOFFSETFROM:+1000
TZOFFSETTO:+1100
TZNAME:AEDT
DTSTART:20271002T160000
END:DAYLIGHT
END:VTIMEZONE
BEGIN:VEVENT
DTSTART;VALUE=DATE:20260321
DTEND;VALUE=DATE:20260323
DTSTAMP:20260422T204241
CREATED:20250325T095810Z
LAST-MODIFIED:20260211T010134Z
UID:8387-1774051200-1774223999@sgfc.com.au
SUMMARY:2026 Peter Goadby Memorial Tournament 21st. and 22nd. March'26 ... Entry forms now available.
DESCRIPTION:2026 Peter Goadby Memorial Tournament – Download here
URL:https://sgfc.com.au/event/2025-peter-goadby-memorial-tournament-12th-and-13th-april25-entry-forms-now-available/
END:VEVENT
BEGIN:VEVENT
DTSTART;VALUE=DATE:20260321
DTEND;VALUE=DATE:20260323
DTSTAMP:20260422T204241
CREATED:20260128T071316Z
LAST-MODIFIED:20260128T071316Z
UID:8583-1774051200-1774223999@sgfc.com.au
SUMMARY:Pointscore Week-end
DESCRIPTION:
URL:https://sgfc.com.au/event/pointscore-week-end-20/
END:VEVENT
END:VCALENDAR