BEGIN:VCALENDAR
VERSION:2.0
PRODID:-//Sydney Game Fishing Club - ECPv6.15.20//NONSGML v1.0//EN
CALSCALE:GREGORIAN
METHOD:PUBLISH
X-WR-CALNAME:Sydney Game Fishing Club
X-ORIGINAL-URL:https://sgfc.com.au
X-WR-CALDESC:Events for Sydney Game Fishing Club
REFRESH-INTERVAL;VALUE=DURATION:PT1H
X-Robots-Tag:noindex
X-PUBLISHED-TTL:PT1H
BEGIN:VTIMEZONE
TZID:Australia/Sydney
BEGIN:STANDARD
TZOFFSETFROM:+1100
TZOFFSETTO:+1000
TZNAME:AEST
DTSTART:20180331T160000
END:STANDARD
BEGIN:DAYLIGHT
TZOFFSETFROM:+1000
TZOFFSETTO:+1100
TZNAME:AEDT
DTSTART:20181006T160000
END:DAYLIGHT
BEGIN:STANDARD
TZOFFSETFROM:+1100
TZOFFSETTO:+1000
TZNAME:AEST
DTSTART:20190406T160000
END:STANDARD
BEGIN:DAYLIGHT
TZOFFSETFROM:+1000
TZOFFSETTO:+1100
TZNAME:AEDT
DTSTART:20191005T160000
END:DAYLIGHT
BEGIN:STANDARD
TZOFFSETFROM:+1100
TZOFFSETTO:+1000
TZNAME:AEST
DTSTART:20200404T160000
END:STANDARD
BEGIN:DAYLIGHT
TZOFFSETFROM:+1000
TZOFFSETTO:+1100
TZNAME:AEDT
DTSTART:20201003T160000
END:DAYLIGHT
BEGIN:STANDARD
TZOFFSETFROM:+1100
TZOFFSETTO:+1000
TZNAME:AEST
DTSTART:20210403T160000
END:STANDARD
BEGIN:DAYLIGHT
TZOFFSETFROM:+1000
TZOFFSETTO:+1100
TZNAME:AEDT
DTSTART:20211002T160000
END:DAYLIGHT
BEGIN:STANDARD
TZOFFSETFROM:+1100
TZOFFSETTO:+1000
TZNAME:AEST
DTSTART:20220402T160000
END:STANDARD
BEGIN:DAYLIGHT
TZOFFSETFROM:+1000
TZOFFSETTO:+1100
TZNAME:AEDT
DTSTART:20221001T160000
END:DAYLIGHT
BEGIN:STANDARD
TZOFFSETFROM:+1100
TZOFFSETTO:+1000
TZNAME:AEST
DTSTART:20230401T160000
END:STANDARD
BEGIN:DAYLIGHT
TZOFFSETFROM:+1000
TZOFFSETTO:+1100
TZNAME:AEDT
DTSTART:20230930T160000
END:DAYLIGHT
BEGIN:STANDARD
TZOFFSETFROM:+1100
TZOFFSETTO:+1000
TZNAME:AEST
DTSTART:20240406T160000
END:STANDARD
BEGIN:DAYLIGHT
TZOFFSETFROM:+1000
TZOFFSETTO:+1100
TZNAME:AEDT
DTSTART:20241005T160000
END:DAYLIGHT
BEGIN:STANDARD
TZOFFSETFROM:+1100
TZOFFSETTO:+1000
TZNAME:AEST
DTSTART:20250405T160000
END:STANDARD
BEGIN:DAYLIGHT
TZOFFSETFROM:+1000
TZOFFSETTO:+1100
TZNAME:AEDT
DTSTART:20251004T160000
END:DAYLIGHT
BEGIN:STANDARD
TZOFFSETFROM:+1100
TZOFFSETTO:+1000
TZNAME:AEST
DTSTART:20260404T160000
END:STANDARD
BEGIN:DAYLIGHT
TZOFFSETFROM:+1000
TZOFFSETTO:+1100
TZNAME:AEDT
DTSTART:20261003T160000
END:DAYLIGHT
BEGIN:STANDARD
TZOFFSETFROM:+1100
TZOFFSETTO:+1000
TZNAME:AEST
DTSTART:20270403T160000
END:STANDARD
BEGIN:DAYLIGHT
TZOFFSETFROM:+1000
TZOFFSETTO:+1100
TZNAME:AEDT
DTSTART:20271002T160000
END:DAYLIGHT
END:VTIMEZONE
BEGIN:VEVENT
DTSTART;VALUE=DATE:20260418
DTEND;VALUE=DATE:20260420
DTSTAMP:20260422T232723
CREATED:20240904T064103Z
LAST-MODIFIED:20250801T014402Z
UID:8160-1776470400-1776643199@sgfc.com.au
SUMMARY:2026 Broken Bay Tournament and Central Zone
DESCRIPTION:
URL:https://sgfc.com.au/event/2025-broken-bay-tournament-and-central-zone/
CATEGORIES:Central Zone,Tournament
END:VEVENT
BEGIN:VEVENT
DTSTART;VALUE=DATE:20251115
DTEND;VALUE=DATE:20251117
DTSTAMP:20260422T232723
CREATED:20240904T063304Z
LAST-MODIFIED:20250801T010904Z
UID:8151-1763164800-1763337599@sgfc.com.au
SUMMARY:Lord Howe Central Zone round...
DESCRIPTION:
URL:https://sgfc.com.au/event/lord-howe-central-zone-round/
LOCATION:Botany Bay GFC\, 2 Wellington St\, Sans Souci\, NSW\, 2219\, Australia
CATEGORIES:Central Zone
END:VEVENT
BEGIN:VEVENT
DTSTART;VALUE=DATE:20250920
DTEND;VALUE=DATE:20250922
DTSTAMP:20260422T232723
CREATED:20240805T224434Z
LAST-MODIFIED:20250910T083007Z
UID:8120-1758326400-1758499199@sgfc.com.au
SUMMARY:2025 Geoff Woolley Monster Mako Tournament and Central Zone
DESCRIPTION:This year’s Geoff Woolley Monster Mako Tournament will be held on the weekend of 20th. and 21st. September’25 and coincides with the first round of Central Zone for this season as well as being the opening weekend of the SGFC Summer Pointscore. Just a few good reasons to get out there and have a go…\n\n\nSignificantly we have made major changes to the prize pool :- \nEntry forms available here….SGFC – 2025 Geoff Woolley Memorial Monster Mako Tournament v1.2
URL:https://sgfc.com.au/event/2024-geoff-woolley-monster-mako-tournament/
LOCATION:SGFC Clubhouse\, Wharf\, Watsons Bay\, Australia
CATEGORIES:Central Zone,social,Summer Point Score,Tournament
END:VEVENT
BEGIN:VEVENT
DTSTART;VALUE=DATE:20200118
DTEND;VALUE=DATE:20200120
DTSTAMP:20260422T232723
CREATED:20191014T222635Z
LAST-MODIFIED:20191014T222635Z
UID:6664-1579305600-1579478399@sgfc.com.au
SUMMARY:Bill Heyward Memorial Tournament
DESCRIPTION:Hosted by Botany Bay GFC\, Central Zone and SGFC point score
URL:https://sgfc.com.au/event/bill-heyward-memorial-tournament/
LOCATION:Broken Bay GFC\, 46 Prince Alfred Parade\, Newport\, NSW\, 2106\, Australia
CATEGORIES:Central Zone,Summer Point Score,Tournament
ORGANIZER;CN="Ameen Ayoub":MAILTO:ameen@ameenslocksmith.com.au
END:VEVENT
BEGIN:VEVENT
DTSTART;TZID=Australia/Sydney:20190921T070000
DTEND;TZID=Australia/Sydney:20190922T170000
DTSTAMP:20260422T232723
CREATED:20190731T072836Z
LAST-MODIFIED:20190731T082656Z
UID:6607-1569049200-1569171600@sgfc.com.au
SUMMARY:Wollongong GFC Tournament
DESCRIPTION:28th. Annual Open Tournament and Central Zone
URL:https://sgfc.com.au/event/wollongong-gfc-tournament-2/
CATEGORIES:Central Zone,Tournament
END:VEVENT
END:VCALENDAR