BEGIN:VCALENDAR
VERSION:2.0
PRODID:-//Sydney Game Fishing Club - ECPv6.15.20//NONSGML v1.0//EN
CALSCALE:GREGORIAN
METHOD:PUBLISH
X-WR-CALNAME:Sydney Game Fishing Club
X-ORIGINAL-URL:https://sgfc.com.au
X-WR-CALDESC:Events for Sydney Game Fishing Club
REFRESH-INTERVAL;VALUE=DURATION:PT1H
X-Robots-Tag:noindex
X-PUBLISHED-TTL:PT1H
BEGIN:VTIMEZONE
TZID:Australia/Sydney
BEGIN:STANDARD
TZOFFSETFROM:+1100
TZOFFSETTO:+1000
TZNAME:AEST
DTSTART:20210403T160000
END:STANDARD
BEGIN:DAYLIGHT
TZOFFSETFROM:+1000
TZOFFSETTO:+1100
TZNAME:AEDT
DTSTART:20211002T160000
END:DAYLIGHT
BEGIN:STANDARD
TZOFFSETFROM:+1100
TZOFFSETTO:+1000
TZNAME:AEST
DTSTART:20220402T160000
END:STANDARD
BEGIN:DAYLIGHT
TZOFFSETFROM:+1000
TZOFFSETTO:+1100
TZNAME:AEDT
DTSTART:20221001T160000
END:DAYLIGHT
BEGIN:STANDARD
TZOFFSETFROM:+1100
TZOFFSETTO:+1000
TZNAME:AEST
DTSTART:20230401T160000
END:STANDARD
BEGIN:DAYLIGHT
TZOFFSETFROM:+1000
TZOFFSETTO:+1100
TZNAME:AEDT
DTSTART:20230930T160000
END:DAYLIGHT
END:VTIMEZONE
BEGIN:VEVENT
DTSTART;VALUE=DATE:20221102
DTEND;VALUE=DATE:20221103
DTSTAMP:20260423T151314
CREATED:20221006T004555Z
LAST-MODIFIED:20221006T004555Z
UID:7383-1667347200-1667433599@sgfc.com.au
SUMMARY:Club Meeting Postponed
DESCRIPTION:
URL:https://sgfc.com.au/event/club-meeting-postponed/
END:VEVENT
BEGIN:VEVENT
DTSTART;VALUE=DATE:20221104
DTEND;VALUE=DATE:20221105
DTSTAMP:20260423T151314
CREATED:20221006T004648Z
LAST-MODIFIED:20221006T004648Z
UID:7385-1667520000-1667606399@sgfc.com.au
SUMMARY:Club Meeting
DESCRIPTION:
URL:https://sgfc.com.au/event/club-meeting/
END:VEVENT
BEGIN:VEVENT
DTSTART;VALUE=DATE:20221105
DTEND;VALUE=DATE:20221107
DTSTAMP:20260423T151314
CREATED:20221006T005918Z
LAST-MODIFIED:20221006T005918Z
UID:7409-1667606400-1667779199@sgfc.com.au
SUMMARY:Pointscore Week-end
DESCRIPTION:
URL:https://sgfc.com.au/event/pointscore-week-end/
END:VEVENT
BEGIN:VEVENT
DTSTART;VALUE=DATE:20221115
DTEND;VALUE=DATE:20221116
DTSTAMP:20260423T151314
CREATED:20221108T225846Z
LAST-MODIFIED:20221108T225846Z
UID:7480-1668470400-1668556799@sgfc.com.au
SUMMARY:Project Kingfish 15th.November
DESCRIPTION:Next club meeting 15th November at SGFC Clubhouse 7pm for a 7.30pm start.\nProject Kingfish will be the topic.\nGuest speakers will be the scientists along with a surprise speaker on the night\nProject kingfish will run over a couple of months all details will be provided at the meeting then later posted on Facebook and sgfc website 
URL:https://sgfc.com.au/event/project-kingfish-15th-november/
CATEGORIES:Club Meeting
END:VEVENT
BEGIN:VEVENT
DTSTART;VALUE=DATE:20221119
DTEND;VALUE=DATE:20221121
DTSTAMP:20260423T151314
CREATED:20221006T012329Z
LAST-MODIFIED:20221006T012329Z
UID:7444-1668816000-1668988799@sgfc.com.au
SUMMARY:Pointscore Week-end
DESCRIPTION:
URL:https://sgfc.com.au/event/pointscore-week-end-16/
END:VEVENT
BEGIN:VEVENT
DTSTART;VALUE=DATE:20221125
DTEND;VALUE=DATE:20221126
DTSTAMP:20260423T151314
CREATED:20221027T213631Z
LAST-MODIFIED:20221108T231146Z
UID:7472-1669334400-1669420799@sgfc.com.au
SUMMARY:Dinosaurs lunch...come and meet the oldies
DESCRIPTION:The event will be held on Friday\, November 25\, 2022\, commencing at 1230 hours.\nLuncheon will be the usual with Doyle’s providing pre-packaged individual containers and side salads. The bar service will be available and all other amenities will be as usual. (Are we all ever pleased to see some normality back into our lives ).\nIt would be appreciated if advice on your ability to attend could be sent to the undersigned by Friday\, November 18\, 2022\, for catering reasons.\nAll are welcome to attend to book contact Annita 0402 615 814 or David 0416 258 275 or John 0407 221 230
URL:https://sgfc.com.au/event/dinosaurs-lunch-come-and-meet-the-oldies/
END:VEVENT
END:VCALENDAR