BEGIN:VCALENDAR
VERSION:2.0
PRODID:-//Sydney Game Fishing Club - ECPv6.15.20//NONSGML v1.0//EN
CALSCALE:GREGORIAN
METHOD:PUBLISH
X-ORIGINAL-URL:https://sgfc.com.au
X-WR-CALDESC:Events for Sydney Game Fishing Club
REFRESH-INTERVAL;VALUE=DURATION:PT1H
X-Robots-Tag:noindex
X-PUBLISHED-TTL:PT1H
BEGIN:VTIMEZONE
TZID:Australia/Sydney
BEGIN:STANDARD
TZOFFSETFROM:+1100
TZOFFSETTO:+1000
TZNAME:AEST
DTSTART:20220402T160000
END:STANDARD
BEGIN:DAYLIGHT
TZOFFSETFROM:+1000
TZOFFSETTO:+1100
TZNAME:AEDT
DTSTART:20221001T160000
END:DAYLIGHT
BEGIN:STANDARD
TZOFFSETFROM:+1100
TZOFFSETTO:+1000
TZNAME:AEST
DTSTART:20230401T160000
END:STANDARD
BEGIN:DAYLIGHT
TZOFFSETFROM:+1000
TZOFFSETTO:+1100
TZNAME:AEDT
DTSTART:20230930T160000
END:DAYLIGHT
BEGIN:STANDARD
TZOFFSETFROM:+1100
TZOFFSETTO:+1000
TZNAME:AEST
DTSTART:20240406T160000
END:STANDARD
BEGIN:DAYLIGHT
TZOFFSETFROM:+1000
TZOFFSETTO:+1100
TZNAME:AEDT
DTSTART:20241005T160000
END:DAYLIGHT
END:VTIMEZONE
BEGIN:VEVENT
DTSTART;VALUE=DATE:20231104
DTEND;VALUE=DATE:20231106
DTSTAMP:20260422T210327
CREATED:20231102T005939Z
LAST-MODIFIED:20231102T005939Z
UID:7851-1699056000-1699228799@sgfc.com.au
SUMMARY:November Pointscore weekend
DESCRIPTION:
URL:https://sgfc.com.au/event/november-pointscore-weekend/
CATEGORIES:Summer Point Score
END:VEVENT
BEGIN:VEVENT
DTSTART;TZID=Australia/Sydney:20231110T190000
DTEND;TZID=Australia/Sydney:20231110T213000
DTSTAMP:20260422T210327
CREATED:20231101T011749Z
LAST-MODIFIED:20231101T012746Z
UID:7823-1699642800-1699651800@sgfc.com.au
SUMMARY:Club Meeting 10th. November - Ed Aspden and Ripcharts
DESCRIPTION:All welcome\, come along and learn all there is to know about Ocean currents\, temperatures\, zero lines etc…
URL:https://sgfc.com.au/event/club-meeting-7th-november-ed-aspden-and-ripcharts/
END:VEVENT
BEGIN:VEVENT
DTSTART;VALUE=DATE:20231111
DTEND;VALUE=DATE:20231113
DTSTAMP:20260422T210327
CREATED:20231102T203730Z
LAST-MODIFIED:20231102T204824Z
UID:7953-1699660800-1699833599@sgfc.com.au
SUMMARY:Lord Howe Island Central Zone and Summer Pointscore
DESCRIPTION:If you are fishing log on to the sched and let inform Greg Wall.
URL:https://sgfc.com.au/event/lord-howe-island-central-zone/
CATEGORIES:Summer Point Score,Tournament
END:VEVENT
BEGIN:VEVENT
DTSTART;VALUE=DATE:20231118
DTEND;VALUE=DATE:20231120
DTSTAMP:20260422T210327
CREATED:20231102T010044Z
LAST-MODIFIED:20231102T010056Z
UID:7853-1700265600-1700438399@sgfc.com.au
SUMMARY:November Pointscore weekend
DESCRIPTION:
URL:https://sgfc.com.au/event/november-pointscore-weekend-2/
END:VEVENT
BEGIN:VEVENT
DTSTART;VALUE=DATE:20231128
DTEND;VALUE=DATE:20231129
DTSTAMP:20260422T210327
CREATED:20231102T014024Z
LAST-MODIFIED:20231102T014024Z
UID:7949-1701129600-1701215999@sgfc.com.au
SUMMARY:Committee Meeting
DESCRIPTION:
URL:https://sgfc.com.au/event/committee-meeting-14/
END:VEVENT
END:VCALENDAR