BEGIN:VCALENDAR
VERSION:2.0
PRODID:-//Sydney Game Fishing Club - ECPv6.15.20//NONSGML v1.0//EN
CALSCALE:GREGORIAN
METHOD:PUBLISH
X-ORIGINAL-URL:https://sgfc.com.au
X-WR-CALDESC:Events for Sydney Game Fishing Club
REFRESH-INTERVAL;VALUE=DURATION:PT1H
X-Robots-Tag:noindex
X-PUBLISHED-TTL:PT1H
BEGIN:VTIMEZONE
TZID:Australia/Sydney
BEGIN:STANDARD
TZOFFSETFROM:+1100
TZOFFSETTO:+1000
TZNAME:AEST
DTSTART:20230401T160000
END:STANDARD
BEGIN:DAYLIGHT
TZOFFSETFROM:+1000
TZOFFSETTO:+1100
TZNAME:AEDT
DTSTART:20230930T160000
END:DAYLIGHT
BEGIN:STANDARD
TZOFFSETFROM:+1100
TZOFFSETTO:+1000
TZNAME:AEST
DTSTART:20240406T160000
END:STANDARD
BEGIN:DAYLIGHT
TZOFFSETFROM:+1000
TZOFFSETTO:+1100
TZNAME:AEDT
DTSTART:20241005T160000
END:DAYLIGHT
BEGIN:STANDARD
TZOFFSETFROM:+1100
TZOFFSETTO:+1000
TZNAME:AEST
DTSTART:20250405T160000
END:STANDARD
BEGIN:DAYLIGHT
TZOFFSETFROM:+1000
TZOFFSETTO:+1100
TZNAME:AEDT
DTSTART:20251004T160000
END:DAYLIGHT
END:VTIMEZONE
BEGIN:VEVENT
DTSTART;VALUE=DATE:20240302
DTEND;VALUE=DATE:20240304
DTSTAMP:20260422T143842
CREATED:20231102T010749Z
LAST-MODIFIED:20231102T010749Z
UID:7867-1709337600-1709510399@sgfc.com.au
SUMMARY:March Pointscore weekend
DESCRIPTION:
URL:https://sgfc.com.au/event/march-pointscore-weekend/
CATEGORIES:Summer Point Score,Tournament
END:VEVENT
BEGIN:VEVENT
DTSTART;VALUE=DATE:20240305
DTEND;VALUE=DATE:20240306
DTSTAMP:20260422T143842
CREATED:20231102T013026Z
LAST-MODIFIED:20231102T013026Z
UID:7905-1709596800-1709683199@sgfc.com.au
SUMMARY:Club Meeting
DESCRIPTION:
URL:https://sgfc.com.au/event/club-meeting-14/
END:VEVENT
BEGIN:VEVENT
DTSTART;VALUE=DATE:20240309
DTEND;VALUE=DATE:20240311
DTSTAMP:20260422T143842
CREATED:20231102T005649Z
LAST-MODIFIED:20231102T005649Z
UID:7849-1709942400-1710115199@sgfc.com.au
SUMMARY:2024 Shellharbour Tournament
DESCRIPTION:
URL:https://sgfc.com.au/event/2024-shellharbour-tournament/
CATEGORIES:Tournament
END:VEVENT
BEGIN:VEVENT
DTSTART;VALUE=DATE:20240316
DTEND;VALUE=DATE:20240318
DTSTAMP:20260422T143842
CREATED:20231102T010833Z
LAST-MODIFIED:20231102T010833Z
UID:7869-1710547200-1710719999@sgfc.com.au
SUMMARY:March Pointscore weekend
DESCRIPTION:
URL:https://sgfc.com.au/event/march-pointscore-weekend-2/
CATEGORIES:Summer Point Score,Tournament
END:VEVENT
BEGIN:VEVENT
DTSTART;VALUE=DATE:20240326
DTEND;VALUE=DATE:20240327
DTSTAMP:20260422T143842
CREATED:20231102T013845Z
LAST-MODIFIED:20231102T013845Z
UID:7941-1711411200-1711497599@sgfc.com.au
SUMMARY:Committee Meeting
DESCRIPTION:
URL:https://sgfc.com.au/event/committee-meeting-10/
END:VEVENT
END:VCALENDAR