BEGIN:VCALENDAR
VERSION:2.0
PRODID:-//Sydney Game Fishing Club - ECPv6.15.20//NONSGML v1.0//EN
CALSCALE:GREGORIAN
METHOD:PUBLISH
X-WR-CALNAME:Sydney Game Fishing Club
X-ORIGINAL-URL:https://sgfc.com.au
X-WR-CALDESC:Events for Sydney Game Fishing Club
REFRESH-INTERVAL;VALUE=DURATION:PT1H
X-Robots-Tag:noindex
X-PUBLISHED-TTL:PT1H
BEGIN:VTIMEZONE
TZID:Australia/Sydney
BEGIN:STANDARD
TZOFFSETFROM:+1100
TZOFFSETTO:+1000
TZNAME:AEST
DTSTART:20230401T160000
END:STANDARD
BEGIN:DAYLIGHT
TZOFFSETFROM:+1000
TZOFFSETTO:+1100
TZNAME:AEDT
DTSTART:20230930T160000
END:DAYLIGHT
BEGIN:STANDARD
TZOFFSETFROM:+1100
TZOFFSETTO:+1000
TZNAME:AEST
DTSTART:20240406T160000
END:STANDARD
BEGIN:DAYLIGHT
TZOFFSETFROM:+1000
TZOFFSETTO:+1100
TZNAME:AEDT
DTSTART:20241005T160000
END:DAYLIGHT
BEGIN:STANDARD
TZOFFSETFROM:+1100
TZOFFSETTO:+1000
TZNAME:AEST
DTSTART:20250405T160000
END:STANDARD
BEGIN:DAYLIGHT
TZOFFSETFROM:+1000
TZOFFSETTO:+1100
TZNAME:AEDT
DTSTART:20251004T160000
END:DAYLIGHT
END:VTIMEZONE
BEGIN:VEVENT
DTSTART;VALUE=DATE:20240804
DTEND;VALUE=DATE:20240805
DTSTAMP:20260422T064137
CREATED:20231102T011322Z
LAST-MODIFIED:20231102T011322Z
UID:7879-1722729600-1722815999@sgfc.com.au
SUMMARY:End of Winter Pointscore
DESCRIPTION:
URL:https://sgfc.com.au/event/end-of-winter-pointscore/
CATEGORIES:Tournament
END:VEVENT
BEGIN:VEVENT
DTSTART;VALUE=DATE:20240806
DTEND;VALUE=DATE:20240807
DTSTAMP:20260422T064137
CREATED:20231102T013242Z
LAST-MODIFIED:20231102T013242Z
UID:7915-1722902400-1722988799@sgfc.com.au
SUMMARY:Club Meeting
DESCRIPTION:
URL:https://sgfc.com.au/event/club-meeting-19/
END:VEVENT
BEGIN:VEVENT
DTSTART;VALUE=DATE:20240817
DTEND;VALUE=DATE:20240818
DTSTAMP:20260422T064137
CREATED:20231102T011436Z
LAST-MODIFIED:20231102T011436Z
UID:7881-1723852800-1723939199@sgfc.com.au
SUMMARY:SGFC Presentation Lunch
DESCRIPTION:
URL:https://sgfc.com.au/event/sgfc-presentation-lunch/
END:VEVENT
BEGIN:VEVENT
DTSTART;VALUE=DATE:20240827
DTEND;VALUE=DATE:20240828
DTSTAMP:20260422T064137
CREATED:20231102T013639Z
LAST-MODIFIED:20231102T013639Z
UID:7931-1724716800-1724803199@sgfc.com.au
SUMMARY:Committee Meeting
DESCRIPTION:
URL:https://sgfc.com.au/event/committee-meeting-5/
END:VEVENT
END:VCALENDAR