BEGIN:VCALENDAR
VERSION:2.0
PRODID:-//Sydney Game Fishing Club - ECPv6.15.20//NONSGML v1.0//EN
CALSCALE:GREGORIAN
METHOD:PUBLISH
X-WR-CALNAME:Sydney Game Fishing Club
X-ORIGINAL-URL:https://sgfc.com.au
X-WR-CALDESC:Events for Sydney Game Fishing Club
REFRESH-INTERVAL;VALUE=DURATION:PT1H
X-Robots-Tag:noindex
X-PUBLISHED-TTL:PT1H
BEGIN:VTIMEZONE
TZID:Australia/Sydney
BEGIN:STANDARD
TZOFFSETFROM:+1100
TZOFFSETTO:+1000
TZNAME:AEST
DTSTART:20240406T160000
END:STANDARD
BEGIN:DAYLIGHT
TZOFFSETFROM:+1000
TZOFFSETTO:+1100
TZNAME:AEDT
DTSTART:20241005T160000
END:DAYLIGHT
BEGIN:STANDARD
TZOFFSETFROM:+1100
TZOFFSETTO:+1000
TZNAME:AEST
DTSTART:20250405T160000
END:STANDARD
BEGIN:DAYLIGHT
TZOFFSETFROM:+1000
TZOFFSETTO:+1100
TZNAME:AEDT
DTSTART:20251004T160000
END:DAYLIGHT
BEGIN:STANDARD
TZOFFSETFROM:+1100
TZOFFSETTO:+1000
TZNAME:AEST
DTSTART:20260404T160000
END:STANDARD
BEGIN:DAYLIGHT
TZOFFSETFROM:+1000
TZOFFSETTO:+1100
TZNAME:AEDT
DTSTART:20261003T160000
END:DAYLIGHT
END:VTIMEZONE
BEGIN:VEVENT
DTSTART;VALUE=DATE:20251007
DTEND;VALUE=DATE:20251008
DTSTAMP:20260422T100351
CREATED:20250129T065233Z
LAST-MODIFIED:20250129T065233Z
UID:8262-1759795200-1759881599@sgfc.com.au
SUMMARY:Club Meeting
DESCRIPTION:
URL:https://sgfc.com.au/event/club-meeting-31/
END:VEVENT
BEGIN:VEVENT
DTSTART;VALUE=DATE:20251019
DTEND;VALUE=DATE:20251020
DTSTAMP:20260422T100351
CREATED:20250924T080457Z
LAST-MODIFIED:20250924T081043Z
UID:8530-1760832000-1760918399@sgfc.com.au
SUMMARY:Kids gone fishing day October 19th limited space\, bookings are essential...
DESCRIPTION:Kids gone fishing day October 19th limited space\, bookings are essential\nFamily Fun fishing see QR code on flyer\nClick here  Gone Fishing day 2025
URL:https://sgfc.com.au/event/gone-fishing-day-2025/
CATEGORIES:social
END:VEVENT
BEGIN:VEVENT
DTSTART;VALUE=DATE:20251028
DTEND;VALUE=DATE:20251029
DTSTAMP:20260422T100351
CREATED:20250129T065829Z
LAST-MODIFIED:20250129T065829Z
UID:8284-1761609600-1761695999@sgfc.com.au
SUMMARY:Committee Meeting
DESCRIPTION:
URL:https://sgfc.com.au/event/committee-meeting-23/
END:VEVENT
END:VCALENDAR