BEGIN:VCALENDAR
VERSION:2.0
PRODID:-//Sydney Game Fishing Club - ECPv6.15.20//NONSGML v1.0//EN
CALSCALE:GREGORIAN
METHOD:PUBLISH
X-WR-CALNAME:Sydney Game Fishing Club
X-ORIGINAL-URL:https://sgfc.com.au
X-WR-CALDESC:Events for Sydney Game Fishing Club
REFRESH-INTERVAL;VALUE=DURATION:PT1H
X-Robots-Tag:noindex
X-PUBLISHED-TTL:PT1H
BEGIN:VTIMEZONE
TZID:Australia/Sydney
BEGIN:STANDARD
TZOFFSETFROM:+1100
TZOFFSETTO:+1000
TZNAME:AEST
DTSTART:20250405T160000
END:STANDARD
BEGIN:DAYLIGHT
TZOFFSETFROM:+1000
TZOFFSETTO:+1100
TZNAME:AEDT
DTSTART:20251004T160000
END:DAYLIGHT
BEGIN:STANDARD
TZOFFSETFROM:+1100
TZOFFSETTO:+1000
TZNAME:AEST
DTSTART:20260404T160000
END:STANDARD
BEGIN:DAYLIGHT
TZOFFSETFROM:+1000
TZOFFSETTO:+1100
TZNAME:AEDT
DTSTART:20261003T160000
END:DAYLIGHT
BEGIN:STANDARD
TZOFFSETFROM:+1100
TZOFFSETTO:+1000
TZNAME:AEST
DTSTART:20270403T160000
END:STANDARD
BEGIN:DAYLIGHT
TZOFFSETFROM:+1000
TZOFFSETTO:+1100
TZNAME:AEDT
DTSTART:20271002T160000
END:DAYLIGHT
END:VTIMEZONE
BEGIN:VEVENT
DTSTART;VALUE=DATE:20260117
DTEND;VALUE=DATE:20260119
DTSTAMP:20260422T143722
CREATED:20211101T230855Z
LAST-MODIFIED:20250801T015313Z
UID:7075-1768608000-1768780799@sgfc.com.au
SUMMARY:2026 Central Coast Tournament and Central Zone
DESCRIPTION:
URL:https://sgfc.com.au/event/central-coast-tournament/
END:VEVENT
BEGIN:VEVENT
DTSTART;VALUE=DATE:20260131
DTEND;VALUE=DATE:20260202
DTSTAMP:20260422T143722
CREATED:20211101T230536Z
LAST-MODIFIED:20250801T013127Z
UID:7071-1769817600-1769990399@sgfc.com.au
SUMMARY:2026 Botany Bay Tournament and Central Zone
DESCRIPTION:
URL:https://sgfc.com.au/event/botany-bay-central-zone/
LOCATION:Botany Bay GFC\, 2 Wellington St\, Sans Souci\, NSW\, 2219\, Australia
END:VEVENT
END:VCALENDAR